BEGIN:VCALENDAR
VERSION:2.0
PRODID:-//Bio Divers Cité - ECPv6.15.17//NONSGML v1.0//EN
CALSCALE:GREGORIAN
METHOD:PUBLISH
X-WR-CALNAME:Bio Divers Cité
X-ORIGINAL-URL:https://www.biodiverscite.fr
X-WR-CALDESC:Évènements pour Bio Divers Cité
REFRESH-INTERVAL;VALUE=DURATION:PT1H
X-Robots-Tag:noindex
X-PUBLISHED-TTL:PT1H
BEGIN:VTIMEZONE
TZID:Europe/Paris
BEGIN:DAYLIGHT
TZOFFSETFROM:+0100
TZOFFSETTO:+0200
TZNAME:CEST
DTSTART:20230326T010000
END:DAYLIGHT
BEGIN:STANDARD
TZOFFSETFROM:+0200
TZOFFSETTO:+0100
TZNAME:CET
DTSTART:20231029T010000
END:STANDARD
BEGIN:DAYLIGHT
TZOFFSETFROM:+0100
TZOFFSETTO:+0200
TZNAME:CEST
DTSTART:20240331T010000
END:DAYLIGHT
BEGIN:STANDARD
TZOFFSETFROM:+0200
TZOFFSETTO:+0100
TZNAME:CET
DTSTART:20241027T010000
END:STANDARD
BEGIN:DAYLIGHT
TZOFFSETFROM:+0100
TZOFFSETTO:+0200
TZNAME:CEST
DTSTART:20250330T010000
END:DAYLIGHT
BEGIN:STANDARD
TZOFFSETFROM:+0200
TZOFFSETTO:+0100
TZNAME:CET
DTSTART:20251026T010000
END:STANDARD
END:VTIMEZONE
BEGIN:VEVENT
DTSTART;TZID=Europe/Paris:20241009T140000
DTEND;TZID=Europe/Paris:20241009T160000
DTSTAMP:20260422T193332
CREATED:20240730T081847Z
LAST-MODIFIED:20240730T082510Z
UID:5672-1728482400-1728489600@www.biodiverscite.fr
SUMMARY:Animation à Bidart : Augmenter la biodiversité chez soi
DESCRIPTION:Mercredi 9 octobre\nDe 14h à 16h \nLieu : Havre de Biodiversité de l’école élémentaire de Bidart. \nIl existe des gestes simples qui font beaucoup\, il existe aussi des gestes que l’on croit être positifs et qui ne le sont pas. Parfois\, nous n’osons tout simplement pas. Pour comprendre le vrai du faux et avoir des techniques concrètes pour aider la biodiversité\, venez discuter et visiter le Havre avec l’association Bio Divers Cité ! \nSeul-e ou en famille\, 15 participants maximum\, Inscriptions par mail à bio.divers.cite.asso@gmail.com.
URL:https://www.biodiverscite.fr/evenement/animation-a-bidart-augmenter-la-biodiversite-chez-soi/
LOCATION:Havre de Bidart\, Rue Berrua\, Bidart\, 64200
END:VEVENT
BEGIN:VEVENT
DTSTART;TZID=Europe/Paris:20241009T173000
DTEND;TZID=Europe/Paris:20241009T193000
DTSTAMP:20260422T193332
CREATED:20240730T082845Z
LAST-MODIFIED:20240730T083127Z
UID:5676-1728495000-1728502200@www.biodiverscite.fr
SUMMARY:Animation à Bayonne : Vers un jardin éthique et anti-gaspi
DESCRIPTION:MERCREDI 9 OCTOBRE\nDe 17h30 à 19h30\nLieu : Square du Polo Beyris\, au panneau du Jardin Partagé. \nDécouvrez les solutions pour préserver votre jardin face aux pénuries d’eau et les aléas climatiques de plus en plus fréquents\, en tenant compte des enjeux liés à la biodiversité et le recyclage des déchets à la source. \nSeul-e ou en famille\, 15 participants maximum\, Inscriptions par email à bio.divers.cite.asso@gmail.com
URL:https://www.biodiverscite.fr/evenement/animation-a-bayonne-vers-un-jardin-ethique-et-anti-gaspi/
LOCATION:Havre de Polo Beyris\, All. du Polo\, Bayonne\, 64100\, France
END:VEVENT
BEGIN:VEVENT
DTSTART;TZID=Europe/Paris:20241012T100000
DTEND;TZID=Europe/Paris:20241012T120000
DTSTAMP:20260422T193332
CREATED:20240730T082249Z
LAST-MODIFIED:20240730T082249Z
UID:5674-1728727200-1728734400@www.biodiverscite.fr
SUMMARY:Initiation aux inventaires participatifs
DESCRIPTION:SAMEDI 12 OCTOBRE\nDe 10h à 12h\nLieu : Square du Polo Beyris\, au panneau du Jardin Partagé. \nDécouvrez l’intérêt des inventaires participatifs et leur mise en pratique au niveau nationale et locale ! Comment participer à proximité de chez vous ? (zoom sur les comptages oiseaux\, papillons ou pollinisateurs sur les havres de biodiversité ou pour l’Atlas de la biodiversité de la Ville de Bayonne). \nSeul-e ou en famille\, 15 participants maximum\, Inscriptions par email à bio.divers.cite.asso@gmail.com.
URL:https://www.biodiverscite.fr/evenement/initiation-aux-inventaires-participatifs/
LOCATION:Havre de Polo Beyris\, All. du Polo\, Bayonne\, 64100\, France
END:VEVENT
BEGIN:VEVENT
DTSTART;TZID=Europe/Paris:20241020T100000
DTEND;TZID=Europe/Paris:20241020T190000
DTSTAMP:20260422T193332
CREATED:20241010T073558Z
LAST-MODIFIED:20241010T074329Z
UID:5875-1729418400-1729450800@www.biodiverscite.fr
SUMMARY:Festival Les Herbes Folles à Bellocq
DESCRIPTION:Les Herbes Folles – 2ème édition \nLe festival des producteurs de plantes aromatiques et médicinales revient pour sa 2ème édition ! Rendez-vous le 20 octobre au château de Bellocq\, de 10h à 19h. \nLe but ? Mettre en lumière le métier de paysan herboriste et valoriser les producteurs du 64 (Pays Basque et Béarn).\nProgramme complet ici. \nLes temps forts pour Bio Divers Cité : \n11h – Animation pour petits et grands autour des plantes médicinales avec Lorea.\n13h – Conférence d’Elise TINEL : « Cultiver AVEC la biodiversité ».\nToute la journée\, retrouvez Gaël et Lorea sur le marché avec leur production personnelle\, des graines et des posters de Bio Divers Cité !
URL:https://www.biodiverscite.fr/evenement/festival-les-herbes-folles-a-bellocq/
LOCATION:Château de Bellocq\, Château de Bellocq\, Bellocq\, 64270\, France
END:VEVENT
BEGIN:VEVENT
DTSTART;TZID=Europe/Paris:20241023T100000
DTEND;TZID=Europe/Paris:20241023T120000
DTSTAMP:20260422T193332
CREATED:20241010T081206Z
LAST-MODIFIED:20241010T081604Z
UID:5892-1729677600-1729684800@www.biodiverscite.fr
SUMMARY:Animation Land Art au Jardin de Grammont
DESCRIPTION:Participez à une animation créative parent-enfant (ou en solo) pour décorer le jardin de Grammont avant la fête de l’automne ! Venez exprimer votre créativité avec des éléments naturels. Tarif à déterminer.\nInscrivez-vous en envoyant un mail à : bio.divers.cite.asso@gmail.com.
URL:https://www.biodiverscite.fr/evenement/animation-land-art-au-jardin-de-grammont/
LOCATION:Jardin de Grammont (Bio Divers Cité)\, 15 Avenue de Gramont\, Biarritz\, 64200\, France
END:VEVENT
BEGIN:VEVENT
DTSTART;TZID=Europe/Paris:20241023T140000
DTEND;TZID=Europe/Paris:20241023T160000
DTSTAMP:20260422T193332
CREATED:20241010T075509Z
LAST-MODIFIED:20241010T075717Z
UID:5887-1729692000-1729699200@www.biodiverscite.fr
SUMMARY:Animation au Havre du Parc Manuel de Falla
DESCRIPTION:Le 23 octobre à 14h\, découvrez les besoins des oiseaux et participez à un atelier de construction de nichoirs\, proposé par la ville d’Anglet. Inscription obligatoire à : environnement@anglet.fr.
URL:https://www.biodiverscite.fr/evenement/animation-au-havre-du-parc-manuel-de-falla/
LOCATION:Havre du parc Manuel De Falla\, 45 Av. Jean Léon Laporte\, Anglet\, 64600
END:VEVENT
BEGIN:VEVENT
DTSTART;TZID=Europe/Paris:20241025T173000
DTEND;TZID=Europe/Paris:20241025T193000
DTSTAMP:20260422T193332
CREATED:20241010T075057Z
LAST-MODIFIED:20241017T102709Z
UID:5885-1729877400-1729884600@www.biodiverscite.fr
SUMMARY:Chantier participatif au Havre du Polo Beyris
DESCRIPTION:Rejoignez-nous le 25 octobre à 17h30 pour aider à créer des meules de foin et à transplanter des framboisiers. \nVenez partager un moment convivial tout en participant à l’aménagement du site !
URL:https://www.biodiverscite.fr/evenement/chantier-participatif-au-havre-du-polo-beyris/
LOCATION:Havre de Polo Beyris\, All. du Polo\, Bayonne\, 64100\, France
END:VEVENT
BEGIN:VEVENT
DTSTART;TZID=Europe/Paris:20241027T110000
DTEND;TZID=Europe/Paris:20241027T170000
DTSTAMP:20260422T193332
CREATED:20241009T104917Z
LAST-MODIFIED:20241025T101401Z
UID:5845-1730026800-1730048400@www.biodiverscite.fr
SUMMARY:Fête de l'automne
DESCRIPTION:Evènement annulé lié au mauvais temps \nRendez-vous dimanche 27 octobre\, entre 11h et 17h.\nComme d’habitude : marché éthique\, ambiance gourmande et musicale…\navec cette fois des boissons chaudes et des citrouilles à creuser !
URL:https://www.biodiverscite.fr/evenement/fete-de-lautomne/
LOCATION:Jardin de Grammont (Bio Divers Cité)\, 15 Avenue de Gramont\, Biarritz\, 64200\, France
END:VEVENT
BEGIN:VEVENT
DTSTART;TZID=Europe/Paris:20241030T100000
DTEND;TZID=Europe/Paris:20241030T120000
DTSTAMP:20260422T193332
CREATED:20241010T080211Z
LAST-MODIFIED:20241025T142705Z
UID:5890-1730282400-1730289600@www.biodiverscite.fr
SUMMARY:Animation au Havre du parc Manuel de Falla
DESCRIPTION:Le 30 octobre à 10h\, venez découvrir de quoi les insectes ont besoin et comment les aider.\nParticipez à la construction d’hôtels à insectes pour leur offrir un refuge adapté !
URL:https://www.biodiverscite.fr/evenement/animation-au-havre-du-parc-manuel-de-falla-2/
LOCATION:Havre du parc Manuel De Falla\, 45 Av. Jean Léon Laporte\, Anglet\, 64600
END:VEVENT
END:VCALENDAR