BEGIN:VCALENDAR
VERSION:2.0
PRODID:-//Bio Divers Cité - ECPv6.15.17//NONSGML v1.0//EN
CALSCALE:GREGORIAN
METHOD:PUBLISH
X-ORIGINAL-URL:https://www.biodiverscite.fr
X-WR-CALDESC:Évènements pour Bio Divers Cité
REFRESH-INTERVAL;VALUE=DURATION:PT1H
X-Robots-Tag:noindex
X-PUBLISHED-TTL:PT1H
BEGIN:VTIMEZONE
TZID:Europe/Paris
BEGIN:DAYLIGHT
TZOFFSETFROM:+0100
TZOFFSETTO:+0200
TZNAME:CEST
DTSTART:20230326T010000
END:DAYLIGHT
BEGIN:STANDARD
TZOFFSETFROM:+0200
TZOFFSETTO:+0100
TZNAME:CET
DTSTART:20231029T010000
END:STANDARD
BEGIN:DAYLIGHT
TZOFFSETFROM:+0100
TZOFFSETTO:+0200
TZNAME:CEST
DTSTART:20240331T010000
END:DAYLIGHT
BEGIN:STANDARD
TZOFFSETFROM:+0200
TZOFFSETTO:+0100
TZNAME:CET
DTSTART:20241027T010000
END:STANDARD
BEGIN:DAYLIGHT
TZOFFSETFROM:+0100
TZOFFSETTO:+0200
TZNAME:CEST
DTSTART:20250330T010000
END:DAYLIGHT
BEGIN:STANDARD
TZOFFSETFROM:+0200
TZOFFSETTO:+0100
TZNAME:CET
DTSTART:20251026T010000
END:STANDARD
END:VTIMEZONE
BEGIN:VEVENT
DTSTART;TZID=Europe/Paris:20240403T140000
DTEND;TZID=Europe/Paris:20240403T160000
DTSTAMP:20260423T045535
CREATED:20240315T101017Z
LAST-MODIFIED:20240315T101626Z
UID:5421-1712152800-1712160000@www.biodiverscite.fr
SUMMARY:Atelier Land Art au Havre de Fine à Anglet
DESCRIPTION:Atelier Land’Art au Havre de Fine \nInscription : environnement@anglet.fr\nTout Public\, durée 2h : familles avec enfants dès 4ans (sous VOTRE surveillance).
URL:https://www.biodiverscite.fr/evenement/atelier-land-art-au-havre-de-fine-a-anglet/
LOCATION:Havre de Fine\, 50 Rue Rénéric\, Anglet\, 64600\, France
END:VEVENT
BEGIN:VEVENT
DTSTART;TZID=Europe/Paris:20240410T140000
DTEND;TZID=Europe/Paris:20240410T160000
DTSTAMP:20260423T045535
CREATED:20240315T102500Z
LAST-MODIFIED:20240315T102500Z
UID:5425-1712757600-1712764800@www.biodiverscite.fr
SUMMARY:Atelier Hôtel à insectes au Havre de Fine à Anglet
DESCRIPTION:Atelier Hôtel à insectes au Havre de Fine à Anglet \nInscription : environnement@anglet.fr\nTout Public\, durée 2h : familles avec enfants dès 4ans (sous VOTRE surveillance).
URL:https://www.biodiverscite.fr/evenement/atelier-hotel-a-insectes-au-havre-de-fine-a-anglet/
LOCATION:Havre de Fine\, 50 Rue Rénéric\, Anglet\, 64600\, France
END:VEVENT
BEGIN:VEVENT
DTSTART;TZID=Europe/Paris:20240413T100000
DTEND;TZID=Europe/Paris:20240413T120000
DTSTAMP:20260423T045535
CREATED:20240315T120434Z
LAST-MODIFIED:20240315T120505Z
UID:5429-1713002400-1713009600@www.biodiverscite.fr
SUMMARY:Animation Oiseaux au Havre de Lamouly à Anglet
DESCRIPTION:Animation Oiseaux au Havre de Lamouly à Anglet \nInscription : environnement@anglet.fr
URL:https://www.biodiverscite.fr/evenement/animation-oiseaux-au-havre-de-lamouly-a-anglet/
LOCATION:Jardin de Grammont (Bio Divers Cité)\, 15 Avenue de Gramont\, Biarritz\, 64200\, France
END:VEVENT
BEGIN:VEVENT
DTSTART;TZID=Europe/Paris:20240418T090000
DTEND;TZID=Europe/Paris:20240419T170000
DTSTAMP:20260423T045535
CREATED:20240323T065738Z
LAST-MODIFIED:20240420T173528Z
UID:5438-1713430800-1713546000@www.biodiverscite.fr
SUMMARY:Mini Stage Nature
DESCRIPTION:> Stages vacances d’avril officiellement ouvert pour les 6-12 ans ! Places limitées pour offrir à vos enfants des activités nature incroyables ! Sous un nouveau format : 2 jours par semaine. 18 et 19 avril et 25 et 26 avril de 9h à 17h. Possibilité de faire les 4\, qui ne se ressembleront pas ! Oui\, c’est réservé aux enfants… mais promis on réfléchi à un format « week-end nature pour adulte » !\n\nInfos et réservations au 06.51.17.67.15 / Inscriptions sur Hello Asso.
URL:https://www.biodiverscite.fr/evenement/mini-stage-nature/
LOCATION:Jardin de Grammont (Bio Divers Cité)\, 15 Avenue de Gramont\, Biarritz\, 64200\, France
END:VEVENT
BEGIN:VEVENT
DTSTART;TZID=Europe/Paris:20240418T090000
DTEND;TZID=Europe/Paris:20240419T170000
DTSTAMP:20260423T045535
CREATED:20240323T065738Z
LAST-MODIFIED:20240420T173528Z
UID:5438-1713430800-1713546000@www.biodiverscite.fr
SUMMARY:Mini Stage Nature
DESCRIPTION:> Stages vacances d’avril officiellement ouvert pour les 6-12 ans ! Places limitées pour offrir à vos enfants des activités nature incroyables ! Sous un nouveau format : 2 jours par semaine. 18 et 19 avril et 25 et 26 avril de 9h à 17h. Possibilité de faire les 4\, qui ne se ressembleront pas ! Oui\, c’est réservé aux enfants… mais promis on réfléchi à un format « week-end nature pour adulte » !\n\nInfos et réservations au 06.51.17.67.15 / Inscriptions sur Hello Asso.
URL:https://www.biodiverscite.fr/evenement/mini-stage-nature/
LOCATION:Jardin de Grammont (Bio Divers Cité)\, 15 Avenue de Gramont\, Biarritz\, 64200\, France
END:VEVENT
BEGIN:VEVENT
DTSTART;TZID=Europe/Paris:20240420T100000
DTEND;TZID=Europe/Paris:20240420T120000
DTSTAMP:20260423T045535
CREATED:20240315T110753Z
LAST-MODIFIED:20240315T120714Z
UID:5427-1713607200-1713614400@www.biodiverscite.fr
SUMMARY:Atelier Encens au Havre de Fine à Anglet
DESCRIPTION:Atelier Encens au Havre de Fine à Anglet \nInscription : environnement@anglet.fr
URL:https://www.biodiverscite.fr/evenement/atelier-encens-au-havre-de-fine-a-anglet/
LOCATION:Havre de Fine\, 50 Rue Rénéric\, Anglet\, 64600\, France
END:VEVENT
BEGIN:VEVENT
DTSTART;TZID=Europe/Paris:20240421T100000
DTEND;TZID=Europe/Paris:20240421T120000
DTSTAMP:20260423T045535
CREATED:20240314T153445Z
LAST-MODIFIED:20240315T102106Z
UID:5415-1713693600-1713700800@www.biodiverscite.fr
SUMMARY:Rendez écocitoyens : Adoptons le compost !
DESCRIPTION:Date : 21 avril 2024 à 10 h\nLieu : Jardin de Grammont \nÀ l’occasion de ce rendez-vous\, Bil ta garbi viendra former les citoyens au compostage de biodéchets. \nPlus d’info sur les rendez-vous écocitoyens ici : https://www.biarritz.fr/rvb \n 
URL:https://www.biodiverscite.fr/evenement/rendez-ecocitoyens-adoptons-le-compost/
LOCATION:Jardin de Grammont (Bio Divers Cité)\, 15 Avenue de Gramont\, Biarritz\, 64200\, France
END:VEVENT
BEGIN:VEVENT
DTSTART;TZID=Europe/Paris:20240424T180000
DTEND;TZID=Europe/Paris:20240424T193000
DTSTAMP:20260423T045535
CREATED:20240418T075340Z
LAST-MODIFIED:20240418T075340Z
UID:5497-1713981600-1713987000@www.biodiverscite.fr
SUMMARY:Atelier Compost à la MAIF
DESCRIPTION:Le 24 avril 2024\, de 18h à 19h30 \nUne animation pour découvrir de A à Z les règles et spécificités du compost afin de vous (re)mettre au vert ! Un atelier où Charlotte vous dévoilera les secrets d’un compost réussi ! \nInscription ici : https://www.maif-evenements.fr/composter-en-ville/atelier-compost-avec-bio-divers-cite?o=172553
URL:https://www.biodiverscite.fr/evenement/atelier-compost-a-la-maif/
LOCATION:Maif Anglet\, 43 avenue de Bayonne\, Anglet\, 64600
END:VEVENT
BEGIN:VEVENT
DTSTART;TZID=Europe/Paris:20240418T090000
DTEND;TZID=Europe/Paris:20240419T170000
DTSTAMP:20260423T045535
CREATED:20240323T065738Z
LAST-MODIFIED:20240420T173528Z
UID:5438-1713430800-1713546000@www.biodiverscite.fr
SUMMARY:Mini Stage Nature
DESCRIPTION:> Stages vacances d’avril officiellement ouvert pour les 6-12 ans ! Places limitées pour offrir à vos enfants des activités nature incroyables ! Sous un nouveau format : 2 jours par semaine. 18 et 19 avril et 25 et 26 avril de 9h à 17h. Possibilité de faire les 4\, qui ne se ressembleront pas ! Oui\, c’est réservé aux enfants… mais promis on réfléchi à un format « week-end nature pour adulte » !\n\nInfos et réservations au 06.51.17.67.15 / Inscriptions sur Hello Asso.
URL:https://www.biodiverscite.fr/evenement/mini-stage-nature/
LOCATION:Jardin de Grammont (Bio Divers Cité)\, 15 Avenue de Gramont\, Biarritz\, 64200\, France
END:VEVENT
BEGIN:VEVENT
DTSTART;TZID=Europe/Paris:20240428T100000
DTEND;TZID=Europe/Paris:20240428T180000
DTSTAMP:20260423T045535
CREATED:20240424T072517Z
LAST-MODIFIED:20240424T075441Z
UID:5503-1714298400-1714327200@www.biodiverscite.fr
SUMMARY:Jardins Saint-Bernard : Fête du printemps
DESCRIPTION:Date : Le 28 avril à partir de 10h\nLieu :  Jardins de St Bernard \nUn programme festif vous attend\, avec des ateliers\, de la musique et du troc de plantes !
URL:https://www.biodiverscite.fr/evenement/jardins-saint-bernard-fete-du-printemps/
LOCATION:Jardins Saint Bernard\, Allée de huire\, Bayonne\, 64100\, France
END:VEVENT
END:VCALENDAR