BEGIN:VCALENDAR
VERSION:2.0
PRODID:-//Bio Divers Cité - ECPv6.15.17//NONSGML v1.0//EN
CALSCALE:GREGORIAN
METHOD:PUBLISH
X-WR-CALNAME:Bio Divers Cité
X-ORIGINAL-URL:https://www.biodiverscite.fr
X-WR-CALDESC:Évènements pour Bio Divers Cité
REFRESH-INTERVAL;VALUE=DURATION:PT1H
X-Robots-Tag:noindex
X-PUBLISHED-TTL:PT1H
BEGIN:VTIMEZONE
TZID:Europe/Paris
BEGIN:DAYLIGHT
TZOFFSETFROM:+0100
TZOFFSETTO:+0200
TZNAME:CEST
DTSTART:20230326T010000
END:DAYLIGHT
BEGIN:STANDARD
TZOFFSETFROM:+0200
TZOFFSETTO:+0100
TZNAME:CET
DTSTART:20231029T010000
END:STANDARD
BEGIN:DAYLIGHT
TZOFFSETFROM:+0100
TZOFFSETTO:+0200
TZNAME:CEST
DTSTART:20240331T010000
END:DAYLIGHT
BEGIN:STANDARD
TZOFFSETFROM:+0200
TZOFFSETTO:+0100
TZNAME:CET
DTSTART:20241027T010000
END:STANDARD
BEGIN:DAYLIGHT
TZOFFSETFROM:+0100
TZOFFSETTO:+0200
TZNAME:CEST
DTSTART:20250330T010000
END:DAYLIGHT
BEGIN:STANDARD
TZOFFSETFROM:+0200
TZOFFSETTO:+0100
TZNAME:CET
DTSTART:20251026T010000
END:STANDARD
END:VTIMEZONE
BEGIN:VEVENT
DTSTART;TZID=Europe/Paris:20240302T100000
DTEND;TZID=Europe/Paris:20240302T120000
DTSTAMP:20260423T062136
CREATED:20240130T093526Z
LAST-MODIFIED:20240130T093653Z
UID:5325-1709373600-1709380800@www.biodiverscite.fr
SUMMARY:Formation Greffe (Sur inscription)
DESCRIPTION:Le samedi 2 mars\, Gaël vous propose une formation de 2 heures sur le greffage d’arbres fruitiers.\nAu jardin de Grammont\, de 10h à 12h\, 15€. \nInscription ici : https://www.helloasso.com/associations/bio-divers-cite/evenements/formation-greffage
URL:https://www.biodiverscite.fr/evenement/formation-greffe-sur-inscription/
LOCATION:Jardin de Grammont (Bio Divers Cité)\, 15 Avenue de Gramont\, Biarritz\, 64200\, France
END:VEVENT
BEGIN:VEVENT
DTSTART;TZID=Europe/Paris:20240306T160000
DTEND;TZID=Europe/Paris:20240306T180000
DTSTAMP:20260423T062136
CREATED:20240227T093846Z
LAST-MODIFIED:20241104T153044Z
UID:5399-1709740800-1709748000@www.biodiverscite.fr
SUMMARY:Ouverture au public - Vente de graines
DESCRIPTION:Tous les mercredis de 16H à 18H\, notre jardin est ouvert au public.\nC’est aussi l’occasion pour nous de vendre nos graines à nos adhérents.
URL:https://www.biodiverscite.fr/evenement/ventes-de-plants-graines-2-2/
LOCATION:Jardin de Grammont (Bio Divers Cité)\, 15 Avenue de Gramont\, Biarritz\, 64200\, France
ATTACH;FMTTYPE=image/jpeg:https://www.biodiverscite.fr/wp-content/uploads/2023/06/les-ventes-reprennent.jpg
END:VEVENT
BEGIN:VEVENT
DTSTART;TZID=Europe/Paris:20240307T183000
DTEND;TZID=Europe/Paris:20240307T200000
DTSTAMP:20260423T062136
CREATED:20240126T093859Z
LAST-MODIFIED:20240201T152230Z
UID:5321-1709836200-1709841600@www.biodiverscite.fr
SUMMARY:Formation Plantes Aromatiques et Médicinales (Sur Inscription)
DESCRIPTION:Tout au long de cette formation\, tu vas apprendre à reconnaître et cultiver les plantes (aromatiques\, sauvages\, médicinales) mais aussi les utiliser en soin ou en cuisine. Au cours de balades botaniques\, ou de cours plus théoriques\, tu découvriras les intérêts et usages de nombreuses plantes\, avec une grande partie de pratique pour transformer toi-même ses merveilles en tisanes ou baumes. Les plantes ont tant de secrets\, et si tu venais en percer quelques-uns avec nous ? \nInscription pour les 10 sessions ici : https://www.helloasso.com/associations/bio-divers-cite/evenements/formation-transfo-2024
URL:https://www.biodiverscite.fr/evenement/formation-transfo-sur-inscription-4/
LOCATION:Jardin de Grammont (Bio Divers Cité)\, 15 Avenue de Gramont\, Biarritz\, 64200\, France
END:VEVENT
BEGIN:VEVENT
DTSTART;TZID=Europe/Paris:20240308T170000
DTEND;TZID=Europe/Paris:20240308T173000
DTSTAMP:20260423T062136
CREATED:20240110T094647Z
LAST-MODIFIED:20240110T094647Z
UID:5302-1709917200-1709919000@www.biodiverscite.fr
SUMMARY:Conférence au salon de l'habitat
DESCRIPTION:Événement : Conférence au Salon de l’Habitat de Biarritz \nDate et Heure : 8 mars 2024 à 17h \nIntervenante : Charlotte \nThème : Un extérieur vivant. Les espaces verts « communs » des résidences ou de notre lieu de travail sont souvent vides de vie et inutilisés : au lieu d’être un atout\, ils deviennent une contrainte. Changer cette tendance répond à des besoins pourtant primordiaux : augmenter la qualité d’un espace vert permet d’améliorer son cadre de vie au quotidien\, d’y rencontrer « l’autre » et favoriser le lien social. Découvrir que la Nature est à sa porte et s’amuser un instant à l’observer… un changement simple qui aura un fort impact sur la biodiversité\, même en cœur de ville ! Venez comprendre pourquoi il est temps de repenser la gestion de ces espaces et comment les rendre enfin « vivants » !
URL:https://www.biodiverscite.fr/evenement/conference-au-salon-de-lhabitat/
LOCATION:Halle d’Iraty\, Rue de Pitchot\, Biarritz\, 64200\, France
END:VEVENT
BEGIN:VEVENT
DTSTART;TZID=Europe/Paris:20240327T160000
DTEND;TZID=Europe/Paris:20240327T180000
DTSTAMP:20260423T062136
CREATED:20240322T105155Z
LAST-MODIFIED:20240323T065313Z
UID:5432-1711555200-1711562400@www.biodiverscite.fr
SUMMARY:Atelier Graines à la Maif d'Anglet
DESCRIPTION: Un nouvel atelier autour des graines et de notre grainothèque à la Maif Anglet  \n\nLe 27 mars de 16h à 18h dans les locaux de la Maif\, avenue de Bayonne à Anglet.\nVenez faire vos semis de printemps et troquer des graines ! Pour s’inscrire c’est par ici !
URL:https://www.biodiverscite.fr/evenement/atelier-graines-a-la-maif-danglet/
LOCATION:Maif Anglet\, 43 avenue de Bayonne\, Anglet\, 64600
END:VEVENT
BEGIN:VEVENT
DTSTART;TZID=Europe/Paris:20240330T100000
DTEND;TZID=Europe/Paris:20240330T120000
DTSTAMP:20260423T062136
CREATED:20240315T100215Z
LAST-MODIFIED:20240315T100605Z
UID:5418-1711792800-1711800000@www.biodiverscite.fr
SUMMARY:Atelier Land'Art au Havre de Lamouly
DESCRIPTION:Atelier Land’Art au Havre de Lamouly \nInscription : environnement@anglet.fr\nTout Public\, durée 2h : familles avec enfants dès 4ans (sous VOTRE surveillance).
URL:https://www.biodiverscite.fr/evenement/atelier-landart-au-havre-de-lamouly/
LOCATION:Lamouly – Havre de Biodiversité\, 68 Rue de Lamouly\, Anglet\, 64600\, France
END:VEVENT
END:VCALENDAR