BEGIN:VCALENDAR
VERSION:2.0
PRODID:-//Bio Divers Cité - ECPv6.15.17//NONSGML v1.0//EN
CALSCALE:GREGORIAN
METHOD:PUBLISH
X-ORIGINAL-URL:https://www.biodiverscite.fr
X-WR-CALDESC:Évènements pour Bio Divers Cité
REFRESH-INTERVAL;VALUE=DURATION:PT1H
X-Robots-Tag:noindex
X-PUBLISHED-TTL:PT1H
BEGIN:VTIMEZONE
TZID:Europe/Paris
BEGIN:DAYLIGHT
TZOFFSETFROM:+0100
TZOFFSETTO:+0200
TZNAME:CEST
DTSTART:20220327T010000
END:DAYLIGHT
BEGIN:STANDARD
TZOFFSETFROM:+0200
TZOFFSETTO:+0100
TZNAME:CET
DTSTART:20221030T010000
END:STANDARD
BEGIN:DAYLIGHT
TZOFFSETFROM:+0100
TZOFFSETTO:+0200
TZNAME:CEST
DTSTART:20230326T010000
END:DAYLIGHT
BEGIN:STANDARD
TZOFFSETFROM:+0200
TZOFFSETTO:+0100
TZNAME:CET
DTSTART:20231029T010000
END:STANDARD
BEGIN:DAYLIGHT
TZOFFSETFROM:+0100
TZOFFSETTO:+0200
TZNAME:CEST
DTSTART:20240331T010000
END:DAYLIGHT
BEGIN:STANDARD
TZOFFSETFROM:+0200
TZOFFSETTO:+0100
TZNAME:CET
DTSTART:20241027T010000
END:STANDARD
BEGIN:DAYLIGHT
TZOFFSETFROM:+0100
TZOFFSETTO:+0200
TZNAME:CEST
DTSTART:20250330T010000
END:DAYLIGHT
BEGIN:STANDARD
TZOFFSETFROM:+0200
TZOFFSETTO:+0100
TZNAME:CET
DTSTART:20251026T010000
END:STANDARD
END:VTIMEZONE
BEGIN:VEVENT
DTSTART;TZID=Europe/Paris:20231122T160000
DTEND;TZID=Europe/Paris:20231122T180000
DTSTAMP:20260423T074306
CREATED:20231116T154538Z
LAST-MODIFIED:20231130T135412Z
UID:5163-1700668800-1700676000@www.biodiverscite.fr
SUMMARY:Ouverture au public - Vente de plants et de graines
DESCRIPTION:Tous les mercredis de 16H à 18H\, notre jardin est ouvert au public.\nC’est aussi l’occasion pour nous de vendre nos plants et nos graines à nos adhérents.
URL:https://www.biodiverscite.fr/evenement/ventes-de-plants-graines-2/
LOCATION:Jardin de Grammont (Bio Divers Cité)\, 15 Avenue de Gramont\, Biarritz\, 64200\, France
ATTACH;FMTTYPE=image/jpeg:https://www.biodiverscite.fr/wp-content/uploads/2023/06/les-ventes-reprennent.jpg
END:VEVENT
BEGIN:VEVENT
DTSTART;TZID=Europe/Paris:20240214T143000
DTEND;TZID=Europe/Paris:20240214T173000
DTSTAMP:20260423T074306
CREATED:20240130T103245Z
LAST-MODIFIED:20240206T153751Z
UID:5329-1707921000-1707931800@www.biodiverscite.fr
SUMMARY:Chantier Participatif à Anglet - Construction d'une spirale aromatique
DESCRIPTION:Chantier participatif à ANGLET pour la construction d’une spirale aromatique !\nUn nouveau Havre se met doucement en place au parc Manuel De Falla (BAB2) grâce au soutien du conseil des quartiers de la ville ! \nC’est la ville qui gère les inscriptions\, à environnement@anglet.fr. \n>Mercredi 14 février de 14h30 à 17h30 <Pour mettre en place la spirale en pierres. Un jeu de tetris où la persévérance\, la logique et un dos en forme sont de mise ! Si vous n’avez pas toutes ces qualités ce n’est pas grave : l’union fait la force !  Prenez vos gants si vous en avez.\n> Samedi 17 février de 10h à 12h < Pour remplir cet escargot de sable et de terre afin d’y planter les premières plantes aromatiques et marquer leur nom d’une pierre décorée.
URL:https://www.biodiverscite.fr/evenement/chantier-participatif-a-anglet-construction-dune-spirale-aromatique/
LOCATION:Jardin de Grammont (Bio Divers Cité)\, 15 Avenue de Gramont\, Biarritz\, 64200\, France
END:VEVENT
BEGIN:VEVENT
DTSTART;TZID=Europe/Paris:20231122T160000
DTEND;TZID=Europe/Paris:20231122T180000
DTSTAMP:20260423T074306
CREATED:20231116T154538Z
LAST-MODIFIED:20231130T135412Z
UID:5163-1700668800-1700676000@www.biodiverscite.fr
SUMMARY:Ouverture au public - Vente de plants et de graines
DESCRIPTION:Tous les mercredis de 16H à 18H\, notre jardin est ouvert au public.\nC’est aussi l’occasion pour nous de vendre nos plants et nos graines à nos adhérents.
URL:https://www.biodiverscite.fr/evenement/ventes-de-plants-graines-2/
LOCATION:Jardin de Grammont (Bio Divers Cité)\, 15 Avenue de Gramont\, Biarritz\, 64200\, France
ATTACH;FMTTYPE=image/jpeg:https://www.biodiverscite.fr/wp-content/uploads/2023/06/les-ventes-reprennent.jpg
END:VEVENT
BEGIN:VEVENT
DTSTART;TZID=Europe/Paris:20240217T100000
DTEND;TZID=Europe/Paris:20240217T120000
DTSTAMP:20260423T074306
CREATED:20240130T104159Z
LAST-MODIFIED:20240130T104159Z
UID:5331-1708164000-1708171200@www.biodiverscite.fr
SUMMARY:Chantier Participatif à Anglet – Construction d’une spirale aromatique
DESCRIPTION:Chantier participatif à ANGLET pour la construction d’une spirale aromatique !\nUn nouveau Havre se met doucement en place au parc Manuel De Falla (BAB2) grâce au soutien du conseil des quartiers de la ville ! \nCe sont eux qui gèrent les inscriptions\, à environnement@anglet.fr. \n>Mercredi 14 février de 14h30 à 17h30 <Pour mettre en place la spirale en pierres. Un jeu de tetris où la persévérance\, la logique et un dos en forme sont de mise ! Si vous n’avez pas toutes ces qualités ce n’est pas grave : l’union fait la force !  Prenez vos gants si vous en avez.\n> Samedi 17 février de 10h à 12h < Pour remplir cet escargot de sable et de terre afin d’y planter les premières plantes aromatiques et marquer leur nom d’une pierre décorée.
URL:https://www.biodiverscite.fr/evenement/chantier-participatif-a-anglet-construction-dune-spirale-aromatique-2/
LOCATION:Jardin de Grammont (Bio Divers Cité)\, 15 Avenue de Gramont\, Biarritz\, 64200\, France
END:VEVENT
BEGIN:VEVENT
DTSTART;TZID=Europe/Paris:20231122T160000
DTEND;TZID=Europe/Paris:20231122T180000
DTSTAMP:20260423T074306
CREATED:20231116T154538Z
LAST-MODIFIED:20231130T135412Z
UID:5163-1700668800-1700676000@www.biodiverscite.fr
SUMMARY:Ouverture au public - Vente de plants et de graines
DESCRIPTION:Tous les mercredis de 16H à 18H\, notre jardin est ouvert au public.\nC’est aussi l’occasion pour nous de vendre nos plants et nos graines à nos adhérents.
URL:https://www.biodiverscite.fr/evenement/ventes-de-plants-graines-2/
LOCATION:Jardin de Grammont (Bio Divers Cité)\, 15 Avenue de Gramont\, Biarritz\, 64200\, France
ATTACH;FMTTYPE=image/jpeg:https://www.biodiverscite.fr/wp-content/uploads/2023/06/les-ventes-reprennent.jpg
END:VEVENT
BEGIN:VEVENT
DTSTART;TZID=Europe/Paris:20240224T140000
DTEND;TZID=Europe/Paris:20240224T160000
DTSTAMP:20260423T074306
CREATED:20240216T123448Z
LAST-MODIFIED:20240216T123448Z
UID:5378-1708783200-1708790400@www.biodiverscite.fr
SUMMARY:H.A.Z.I Sarea - Bourse aux graines à Lacarre
DESCRIPTION:Bio Divers Cité sera présent à la bourse aux graines organisée dans le cadre du réseau H.A.Z.I Sarea.\nPlus d’info sur l’événement ici : https://hazisarea.fr/fr
URL:https://www.biodiverscite.fr/evenement/h-a-z-i-sarea-bourse-aux-graines-a-lacarre/
LOCATION:Jardin de Grammont (Bio Divers Cité)\, 15 Avenue de Gramont\, Biarritz\, 64200\, France
END:VEVENT
BEGIN:VEVENT
DTSTART;TZID=Europe/Paris:20240228T160000
DTEND;TZID=Europe/Paris:20240228T190000
DTSTAMP:20260423T074306
CREATED:20240227T094020Z
LAST-MODIFIED:20240227T094020Z
UID:5401-1709136000-1709146800@www.biodiverscite.fr
SUMMARY:Ouverture au public - Vente de plants et de graines
DESCRIPTION:Tous les mercredis de 16H à 19H\, notre jardin est ouvert au public.\nC’est aussi l’occasion pour nous de vendre nos plants et nos graines à nos adhérents.
URL:https://www.biodiverscite.fr/evenement/ventes-de-plants-graines-2-3/
LOCATION:Jardin de Grammont (Bio Divers Cité)\, 15 Avenue de Gramont\, Biarritz\, 64200\, France
ATTACH;FMTTYPE=image/jpeg:https://www.biodiverscite.fr/wp-content/uploads/2023/06/les-ventes-reprennent.jpg
END:VEVENT
END:VCALENDAR