BEGIN:VCALENDAR
VERSION:2.0
PRODID:-//Bio Divers Cité - ECPv6.15.17//NONSGML v1.0//EN
CALSCALE:GREGORIAN
METHOD:PUBLISH
X-WR-CALNAME:Bio Divers Cité
X-ORIGINAL-URL:https://www.biodiverscite.fr
X-WR-CALDESC:Évènements pour Bio Divers Cité
REFRESH-INTERVAL;VALUE=DURATION:PT1H
X-Robots-Tag:noindex
X-PUBLISHED-TTL:PT1H
BEGIN:VTIMEZONE
TZID:Europe/Paris
BEGIN:DAYLIGHT
TZOFFSETFROM:+0100
TZOFFSETTO:+0200
TZNAME:CEST
DTSTART:20220327T010000
END:DAYLIGHT
BEGIN:STANDARD
TZOFFSETFROM:+0200
TZOFFSETTO:+0100
TZNAME:CET
DTSTART:20221030T010000
END:STANDARD
BEGIN:DAYLIGHT
TZOFFSETFROM:+0100
TZOFFSETTO:+0200
TZNAME:CEST
DTSTART:20230326T010000
END:DAYLIGHT
BEGIN:STANDARD
TZOFFSETFROM:+0200
TZOFFSETTO:+0100
TZNAME:CET
DTSTART:20231029T010000
END:STANDARD
BEGIN:DAYLIGHT
TZOFFSETFROM:+0100
TZOFFSETTO:+0200
TZNAME:CEST
DTSTART:20240331T010000
END:DAYLIGHT
BEGIN:STANDARD
TZOFFSETFROM:+0200
TZOFFSETTO:+0100
TZNAME:CET
DTSTART:20241027T010000
END:STANDARD
END:VTIMEZONE
BEGIN:VEVENT
DTSTART;TZID=Europe/Paris:20230614T160000
DTEND;TZID=Europe/Paris:20230614T190000
DTSTAMP:20260423T114737
CREATED:20230614T143254Z
LAST-MODIFIED:20230927T130614Z
UID:3465-1686758400-1686769200@www.biodiverscite.fr
SUMMARY:Ventes de plants & graines
DESCRIPTION:Tous les mercredis de 16H à 19H les ventes de plants et graines reprennent au jardin de Gramont à Biarritz. \nTomates\, tomates cerises\, poivrons\, piments\, aubergines\, persil\, ciboulette\, œillet d’Inde\, lavande et plein d’autres ! \nProduction artisanale et Associative ! \nRéservé aux adhérents.
URL:https://www.biodiverscite.fr/evenement/ventes-de-plants-graines/
LOCATION:Jardin de Grammont (Bio Divers Cité)\, 15 Avenue de Gramont\, Biarritz\, 64200\, France
ATTACH;FMTTYPE=image/jpeg:https://www.biodiverscite.fr/wp-content/uploads/2023/06/les-ventes-reprennent.jpg
END:VEVENT
BEGIN:VEVENT
DTSTART;TZID=Europe/Paris:20230614T160000
DTEND;TZID=Europe/Paris:20230614T190000
DTSTAMP:20260423T114737
CREATED:20230614T143254Z
LAST-MODIFIED:20230927T130614Z
UID:3465-1686758400-1686769200@www.biodiverscite.fr
SUMMARY:Ventes de plants & graines
DESCRIPTION:Tous les mercredis de 16H à 19H les ventes de plants et graines reprennent au jardin de Gramont à Biarritz. \nTomates\, tomates cerises\, poivrons\, piments\, aubergines\, persil\, ciboulette\, œillet d’Inde\, lavande et plein d’autres ! \nProduction artisanale et Associative ! \nRéservé aux adhérents.
URL:https://www.biodiverscite.fr/evenement/ventes-de-plants-graines/
LOCATION:Jardin de Grammont (Bio Divers Cité)\, 15 Avenue de Gramont\, Biarritz\, 64200\, France
ATTACH;FMTTYPE=image/jpeg:https://www.biodiverscite.fr/wp-content/uploads/2023/06/les-ventes-reprennent.jpg
END:VEVENT
BEGIN:VEVENT
DTSTART;TZID=Europe/Paris:20231017T183000
DTEND;TZID=Europe/Paris:20231017T200000
DTSTAMP:20260423T114737
CREATED:20231011T144625Z
LAST-MODIFIED:20231011T144625Z
UID:4817-1697567400-1697572800@www.biodiverscite.fr
SUMMARY:Sortie nocturne pour découvrir les chauves-souris
DESCRIPTION:Mardi 17 octobre à 18h30 : Sortie nocturne aux Barthes d’Ilbarritz pour découvrir les chauves-souris. \nInscriptions par SMS au 07.67.83.08.47
URL:https://www.biodiverscite.fr/evenement/sortie-nocturne-pour-decouvrir-les-chauves-souris/
LOCATION:Barthes d’Ilbarritz\, Av. d'Ilbaritz\, Bayonne\, 64100
END:VEVENT
BEGIN:VEVENT
DTSTART;TZID=Europe/Paris:20230614T160000
DTEND;TZID=Europe/Paris:20230614T190000
DTSTAMP:20260423T114737
CREATED:20230614T143254Z
LAST-MODIFIED:20230927T130614Z
UID:3465-1686758400-1686769200@www.biodiverscite.fr
SUMMARY:Ventes de plants & graines
DESCRIPTION:Tous les mercredis de 16H à 19H les ventes de plants et graines reprennent au jardin de Gramont à Biarritz. \nTomates\, tomates cerises\, poivrons\, piments\, aubergines\, persil\, ciboulette\, œillet d’Inde\, lavande et plein d’autres ! \nProduction artisanale et Associative ! \nRéservé aux adhérents.
URL:https://www.biodiverscite.fr/evenement/ventes-de-plants-graines/
LOCATION:Jardin de Grammont (Bio Divers Cité)\, 15 Avenue de Gramont\, Biarritz\, 64200\, France
ATTACH;FMTTYPE=image/jpeg:https://www.biodiverscite.fr/wp-content/uploads/2023/06/les-ventes-reprennent.jpg
END:VEVENT
BEGIN:VEVENT
DTSTART;TZID=Europe/Paris:20231021T100000
DTEND;TZID=Europe/Paris:20231021T120000
DTSTAMP:20260423T114737
CREATED:20231011T145022Z
LAST-MODIFIED:20231011T145243Z
UID:4820-1697882400-1697889600@www.biodiverscite.fr
SUMMARY:Découverte des oiseaux des Barthes d'Ilbarritz
DESCRIPTION:Samedi 21 octobre à 10h : découverte des oiseaux des Barthes d’Ilbarritz \n  \nInscriptions par SMS au 07.67.83.08.47
URL:https://www.biodiverscite.fr/evenement/decouverte-des-oiseaux-des-barthes-dilbarritz/
LOCATION:Barthes d’Ilbarritz\, Av. d'Ilbaritz\, Bayonne\, 64100
END:VEVENT
BEGIN:VEVENT
DTSTART;TZID=Europe/Paris:20230614T160000
DTEND;TZID=Europe/Paris:20230614T190000
DTSTAMP:20260423T114737
CREATED:20230614T143254Z
LAST-MODIFIED:20230927T130614Z
UID:3465-1686758400-1686769200@www.biodiverscite.fr
SUMMARY:Ventes de plants & graines
DESCRIPTION:Tous les mercredis de 16H à 19H les ventes de plants et graines reprennent au jardin de Gramont à Biarritz. \nTomates\, tomates cerises\, poivrons\, piments\, aubergines\, persil\, ciboulette\, œillet d’Inde\, lavande et plein d’autres ! \nProduction artisanale et Associative ! \nRéservé aux adhérents.
URL:https://www.biodiverscite.fr/evenement/ventes-de-plants-graines/
LOCATION:Jardin de Grammont (Bio Divers Cité)\, 15 Avenue de Gramont\, Biarritz\, 64200\, France
ATTACH;FMTTYPE=image/jpeg:https://www.biodiverscite.fr/wp-content/uploads/2023/06/les-ventes-reprennent.jpg
END:VEVENT
BEGIN:VEVENT
DTSTART;TZID=Europe/Paris:20231026T170000
DTEND;TZID=Europe/Paris:20231026T190000
DTSTAMP:20260423T114737
CREATED:20231011T145151Z
LAST-MODIFIED:20231011T145334Z
UID:4822-1698339600-1698346800@www.biodiverscite.fr
SUMMARY:Animation et chantier arrachage pour comprendre les plantes exotiques envahissantes
DESCRIPTION:Jeudi 26 octobre à 17h : animation et chantier arrachage pour comprendre les plantes exotiques envahissantes \nInscriptions par SMS au 07.67.83.08.47
URL:https://www.biodiverscite.fr/evenement/animation-et-chantier-arrachage-pour-comprendre-les-plantes-exotiques-envahissantes/
LOCATION:Barthes d’Ilbarritz\, Av. d'Ilbaritz\, Bayonne\, 64100
END:VEVENT
BEGIN:VEVENT
DTSTART;TZID=Europe/Paris:20231030T090000
DTEND;TZID=Europe/Paris:20231030T170000
DTSTAMP:20260423T114737
CREATED:20230927T130358Z
LAST-MODIFIED:20231020T084758Z
UID:4738-1698656400-1698685200@www.biodiverscite.fr
SUMMARY:Début du Stage Nature Enfants !
DESCRIPTION:Vous voulez que vos enfants passent des vacances originales ? \nFini le centre de loisirs… inscrivez-les au Stage Nature ! Une belle manière d’occuper son temps : apprendre à jardiner et à mieux connaître son environnement\, avec des nouveaux amis… \n4 jours de stage au jardin de Grammont (120€)\nEntre 9h et 17h\, repas tiré du sac.\n(Lundi 30 oct\, Mardi 31 oct\, Jeudi 2 Nov et Vendredi 3 Nov) \nInscription sur HelloAsso : https://www.helloasso.com/associations/bio-divers-cite/evenements/stage-enfants-1
URL:https://www.biodiverscite.fr/evenement/stage-nature-enfants/
LOCATION:Jardin de Grammont (Bio Divers Cité)\, 15 Avenue de Gramont\, Biarritz\, 64200\, France
END:VEVENT
BEGIN:VEVENT
DTSTART;TZID=Europe/Paris:20231031T180000
DTEND;TZID=Europe/Paris:20231031T193000
DTSTAMP:20260423T114737
CREATED:20231013T094819Z
LAST-MODIFIED:20231013T094819Z
UID:4841-1698775200-1698780600@www.biodiverscite.fr
SUMMARY:Animation chauves-souris à Bidart
DESCRIPTION:Venez écouter et mieux connaître les chauves-souris et tous les intérêts que nous avons à les préserver !\nÀ l’aide d’une bat-box\, nous essaierons de capter les chauves-souris et les identifier.\nAccessible aux petits comme aux grands ! \nGratuit\, sur inscription par SMS au 07.67.83.08.47
URL:https://www.biodiverscite.fr/evenement/animation-chauves-souris-a-bidart/
LOCATION:Havre de Bidart\, Rue Berrua\, Bidart\, 64200
END:VEVENT
END:VCALENDAR