BEGIN:VCALENDAR
VERSION:2.0
PRODID:-//Bio Divers Cité - ECPv6.15.17//NONSGML v1.0//EN
CALSCALE:GREGORIAN
METHOD:PUBLISH
X-WR-CALNAME:Bio Divers Cité
X-ORIGINAL-URL:https://www.biodiverscite.fr
X-WR-CALDESC:Évènements pour Bio Divers Cité
REFRESH-INTERVAL;VALUE=DURATION:PT1H
X-Robots-Tag:noindex
X-PUBLISHED-TTL:PT1H
BEGIN:VTIMEZONE
TZID:Europe/Paris
BEGIN:DAYLIGHT
TZOFFSETFROM:+0100
TZOFFSETTO:+0200
TZNAME:CEST
DTSTART:20220327T010000
END:DAYLIGHT
BEGIN:STANDARD
TZOFFSETFROM:+0200
TZOFFSETTO:+0100
TZNAME:CET
DTSTART:20221030T010000
END:STANDARD
BEGIN:DAYLIGHT
TZOFFSETFROM:+0100
TZOFFSETTO:+0200
TZNAME:CEST
DTSTART:20230326T010000
END:DAYLIGHT
BEGIN:STANDARD
TZOFFSETFROM:+0200
TZOFFSETTO:+0100
TZNAME:CET
DTSTART:20231029T010000
END:STANDARD
BEGIN:DAYLIGHT
TZOFFSETFROM:+0100
TZOFFSETTO:+0200
TZNAME:CEST
DTSTART:20240331T010000
END:DAYLIGHT
BEGIN:STANDARD
TZOFFSETFROM:+0200
TZOFFSETTO:+0100
TZNAME:CET
DTSTART:20241027T010000
END:STANDARD
END:VTIMEZONE
BEGIN:VEVENT
DTSTART;TZID=Europe/Paris:20230614T160000
DTEND;TZID=Europe/Paris:20230614T190000
DTSTAMP:20260423T130818
CREATED:20230614T143254Z
LAST-MODIFIED:20230927T130614Z
UID:3465-1686758400-1686769200@www.biodiverscite.fr
SUMMARY:Ventes de plants & graines
DESCRIPTION:Tous les mercredis de 16H à 19H les ventes de plants et graines reprennent au jardin de Gramont à Biarritz. \nTomates\, tomates cerises\, poivrons\, piments\, aubergines\, persil\, ciboulette\, œillet d’Inde\, lavande et plein d’autres ! \nProduction artisanale et Associative ! \nRéservé aux adhérents.
URL:https://www.biodiverscite.fr/evenement/ventes-de-plants-graines/
LOCATION:Jardin de Grammont (Bio Divers Cité)\, 15 Avenue de Gramont\, Biarritz\, 64200\, France
ATTACH;FMTTYPE=image/jpeg:https://www.biodiverscite.fr/wp-content/uploads/2023/06/les-ventes-reprennent.jpg
END:VEVENT
BEGIN:VEVENT
DTSTART;TZID=Europe/Paris:20230912T183000
DTEND;TZID=Europe/Paris:20230912T193000
DTSTAMP:20260423T130818
CREATED:20230912T130555Z
LAST-MODIFIED:20230912T130555Z
UID:4676-1694543400-1694547000@www.biodiverscite.fr
SUMMARY:Evènement Réseau des Jardins : Discussion autour de la permaculture et présentation du site
DESCRIPTION:Discussion autour de la permaculture – Présentation et utilisation de tous les outils mis à disposition grâce au réseau (troc\, dons\, annonces) ; Mieux comprendre la permaculture : d’où vient-elle ? Quelles sont les atouts et les limites des différentes techniques ?\nLieu à définir : MVC de Balichon\nIntervenant-es : Gaël et Charlotte
URL:https://www.biodiverscite.fr/evenement/evenement-reseau-des-jardins-discussion-autour-de-la-permaculture-et-presentation-du-site/
LOCATION:Balichon\, 11bis Rue Georges Berges\, Bayonne\, 64100\, France
END:VEVENT
BEGIN:VEVENT
DTSTART;TZID=Europe/Paris:20230614T160000
DTEND;TZID=Europe/Paris:20230614T190000
DTSTAMP:20260423T130818
CREATED:20230614T143254Z
LAST-MODIFIED:20230927T130614Z
UID:3465-1686758400-1686769200@www.biodiverscite.fr
SUMMARY:Ventes de plants & graines
DESCRIPTION:Tous les mercredis de 16H à 19H les ventes de plants et graines reprennent au jardin de Gramont à Biarritz. \nTomates\, tomates cerises\, poivrons\, piments\, aubergines\, persil\, ciboulette\, œillet d’Inde\, lavande et plein d’autres ! \nProduction artisanale et Associative ! \nRéservé aux adhérents.
URL:https://www.biodiverscite.fr/evenement/ventes-de-plants-graines/
LOCATION:Jardin de Grammont (Bio Divers Cité)\, 15 Avenue de Gramont\, Biarritz\, 64200\, France
ATTACH;FMTTYPE=image/jpeg:https://www.biodiverscite.fr/wp-content/uploads/2023/06/les-ventes-reprennent.jpg
END:VEVENT
BEGIN:VEVENT
DTSTART;TZID=Europe/Paris:20230614T160000
DTEND;TZID=Europe/Paris:20230614T190000
DTSTAMP:20260423T130818
CREATED:20230614T143254Z
LAST-MODIFIED:20230927T130614Z
UID:3465-1686758400-1686769200@www.biodiverscite.fr
SUMMARY:Ventes de plants & graines
DESCRIPTION:Tous les mercredis de 16H à 19H les ventes de plants et graines reprennent au jardin de Gramont à Biarritz. \nTomates\, tomates cerises\, poivrons\, piments\, aubergines\, persil\, ciboulette\, œillet d’Inde\, lavande et plein d’autres ! \nProduction artisanale et Associative ! \nRéservé aux adhérents.
URL:https://www.biodiverscite.fr/evenement/ventes-de-plants-graines/
LOCATION:Jardin de Grammont (Bio Divers Cité)\, 15 Avenue de Gramont\, Biarritz\, 64200\, France
ATTACH;FMTTYPE=image/jpeg:https://www.biodiverscite.fr/wp-content/uploads/2023/06/les-ventes-reprennent.jpg
END:VEVENT
BEGIN:VEVENT
DTSTART;TZID=Europe/Paris:20230614T160000
DTEND;TZID=Europe/Paris:20230614T190000
DTSTAMP:20260423T130818
CREATED:20230614T143254Z
LAST-MODIFIED:20230927T130614Z
UID:3465-1686758400-1686769200@www.biodiverscite.fr
SUMMARY:Ventes de plants & graines
DESCRIPTION:Tous les mercredis de 16H à 19H les ventes de plants et graines reprennent au jardin de Gramont à Biarritz. \nTomates\, tomates cerises\, poivrons\, piments\, aubergines\, persil\, ciboulette\, œillet d’Inde\, lavande et plein d’autres ! \nProduction artisanale et Associative ! \nRéservé aux adhérents.
URL:https://www.biodiverscite.fr/evenement/ventes-de-plants-graines/
LOCATION:Jardin de Grammont (Bio Divers Cité)\, 15 Avenue de Gramont\, Biarritz\, 64200\, France
ATTACH;FMTTYPE=image/jpeg:https://www.biodiverscite.fr/wp-content/uploads/2023/06/les-ventes-reprennent.jpg
END:VEVENT
END:VCALENDAR