BEGIN:VCALENDAR
VERSION:2.0
PRODID:-//Bio Divers Cité - ECPv6.15.17//NONSGML v1.0//EN
CALSCALE:GREGORIAN
METHOD:PUBLISH
X-WR-CALNAME:Bio Divers Cité
X-ORIGINAL-URL:https://www.biodiverscite.fr
X-WR-CALDESC:Évènements pour Bio Divers Cité
REFRESH-INTERVAL;VALUE=DURATION:PT1H
X-Robots-Tag:noindex
X-PUBLISHED-TTL:PT1H
BEGIN:VTIMEZONE
TZID:Europe/Paris
BEGIN:DAYLIGHT
TZOFFSETFROM:+0100
TZOFFSETTO:+0200
TZNAME:CEST
DTSTART:20240331T010000
END:DAYLIGHT
BEGIN:STANDARD
TZOFFSETFROM:+0200
TZOFFSETTO:+0100
TZNAME:CET
DTSTART:20241027T010000
END:STANDARD
BEGIN:DAYLIGHT
TZOFFSETFROM:+0100
TZOFFSETTO:+0200
TZNAME:CEST
DTSTART:20250330T010000
END:DAYLIGHT
BEGIN:STANDARD
TZOFFSETFROM:+0200
TZOFFSETTO:+0100
TZNAME:CET
DTSTART:20251026T010000
END:STANDARD
BEGIN:DAYLIGHT
TZOFFSETFROM:+0100
TZOFFSETTO:+0200
TZNAME:CEST
DTSTART:20260329T010000
END:DAYLIGHT
BEGIN:STANDARD
TZOFFSETFROM:+0200
TZOFFSETTO:+0100
TZNAME:CET
DTSTART:20261025T010000
END:STANDARD
END:VTIMEZONE
BEGIN:VEVENT
DTSTART;TZID=Europe/Paris:20250413T100000
DTEND;TZID=Europe/Paris:20250413T120000
DTSTAMP:20260422T134936
CREATED:20250408T084830Z
LAST-MODIFIED:20250408T084830Z
UID:6239-1744538400-1744545600@www.biodiverscite.fr
SUMMARY:RV Ecocitoyen
DESCRIPTION:Nouveau RV écocitoyen \nEnsemble\, aidons la Terre à mieux absorber l’eau\nFace aux défis environnementaux\, chaque action compte. La Ville de Biarritz vous invite à participer à notre prochain rendez-vous écocitoyen pour creuser des baissières dans la cour de l’école Victor Duruy. Votre participation permettra de consolider la butte de jardin qui menace de s’éroder et de glisser contre le mur de l’école. Lien d’inscription : https://my.weezevent.com/rdv-eco-42
URL:https://www.biodiverscite.fr/evenement/rv-ecocitoyen/
LOCATION:Ecole Victor Duruy\, 136 avenue du president Kennedy\, Biarritz\, 64200\, France
END:VEVENT
END:VCALENDAR