BEGIN:VCALENDAR
VERSION:2.0
PRODID:-//Bio Divers Cité - ECPv6.15.17//NONSGML v1.0//EN
CALSCALE:GREGORIAN
METHOD:PUBLISH
X-WR-CALNAME:Bio Divers Cité
X-ORIGINAL-URL:https://www.biodiverscite.fr
X-WR-CALDESC:Évènements pour Bio Divers Cité
REFRESH-INTERVAL;VALUE=DURATION:PT1H
X-Robots-Tag:noindex
X-PUBLISHED-TTL:PT1H
BEGIN:VTIMEZONE
TZID:Europe/Paris
BEGIN:DAYLIGHT
TZOFFSETFROM:+0100
TZOFFSETTO:+0200
TZNAME:CEST
DTSTART:20240331T010000
END:DAYLIGHT
BEGIN:STANDARD
TZOFFSETFROM:+0200
TZOFFSETTO:+0100
TZNAME:CET
DTSTART:20241027T010000
END:STANDARD
BEGIN:DAYLIGHT
TZOFFSETFROM:+0100
TZOFFSETTO:+0200
TZNAME:CEST
DTSTART:20250330T010000
END:DAYLIGHT
BEGIN:STANDARD
TZOFFSETFROM:+0200
TZOFFSETTO:+0100
TZNAME:CET
DTSTART:20251026T010000
END:STANDARD
BEGIN:DAYLIGHT
TZOFFSETFROM:+0100
TZOFFSETTO:+0200
TZNAME:CEST
DTSTART:20260329T010000
END:DAYLIGHT
BEGIN:STANDARD
TZOFFSETFROM:+0200
TZOFFSETTO:+0100
TZNAME:CET
DTSTART:20261025T010000
END:STANDARD
END:VTIMEZONE
BEGIN:VEVENT
DTSTART;TZID=Europe/Paris:20250428T170000
DTEND;TZID=Europe/Paris:20250428T193000
DTSTAMP:20260422T120630
CREATED:20250422T133657Z
LAST-MODIFIED:20250422T141354Z
UID:6492-1745859600-1745868600@www.biodiverscite.fr
SUMMARY:Réseau des Jardins PoloBeyris - Chantier participatif
DESCRIPTION:Allons filer un coup de pouce aux jardiniers du Polo ! \nAu programme : Rénovation de la petite cabane en osier pour les enfants du quartier\, enrichissement de graines et de plants de la jachère de plantes locales qui aiment les sols frais et qui survivent au chiendent (ramenez les vôtres !). Re-remplissage de l’hôtel à insectes avec l’argile rouge et découpage de gros bambous. \nApéro partagé à 19h30 : ramenez ce qu’il vous plait à boire ou à manger !
URL:https://www.biodiverscite.fr/evenement/reseau-des-jardins-polobeyris-chantier-participatif/
LOCATION:Havre de Polo Beyris\, All. du Polo\, Bayonne\, 64100\, France
END:VEVENT
END:VCALENDAR