BEGIN:VCALENDAR
VERSION:2.0
PRODID:-//Bio Divers Cité - ECPv6.15.17//NONSGML v1.0//EN
CALSCALE:GREGORIAN
METHOD:PUBLISH
X-WR-CALNAME:Bio Divers Cité
X-ORIGINAL-URL:https://www.biodiverscite.fr
X-WR-CALDESC:Évènements pour Bio Divers Cité
REFRESH-INTERVAL;VALUE=DURATION:PT1H
X-Robots-Tag:noindex
X-PUBLISHED-TTL:PT1H
BEGIN:VTIMEZONE
TZID:Europe/Paris
BEGIN:DAYLIGHT
TZOFFSETFROM:+0100
TZOFFSETTO:+0200
TZNAME:CEST
DTSTART:20240331T010000
END:DAYLIGHT
BEGIN:STANDARD
TZOFFSETFROM:+0200
TZOFFSETTO:+0100
TZNAME:CET
DTSTART:20241027T010000
END:STANDARD
BEGIN:DAYLIGHT
TZOFFSETFROM:+0100
TZOFFSETTO:+0200
TZNAME:CEST
DTSTART:20250330T010000
END:DAYLIGHT
BEGIN:STANDARD
TZOFFSETFROM:+0200
TZOFFSETTO:+0100
TZNAME:CET
DTSTART:20251026T010000
END:STANDARD
BEGIN:DAYLIGHT
TZOFFSETFROM:+0100
TZOFFSETTO:+0200
TZNAME:CEST
DTSTART:20260329T010000
END:DAYLIGHT
BEGIN:STANDARD
TZOFFSETFROM:+0200
TZOFFSETTO:+0100
TZNAME:CET
DTSTART:20261025T010000
END:STANDARD
END:VTIMEZONE
BEGIN:VEVENT
DTSTART;TZID=Europe/Paris:20250529T103000
DTEND;TZID=Europe/Paris:20250529T120000
DTSTAMP:20260422T102803
CREATED:20250523T083005Z
LAST-MODIFIED:20250523T083005Z
UID:6998-1748514600-1748520000@www.biodiverscite.fr
SUMMARY:Le secret des plantes aromatiques
DESCRIPTION:Spirale aromatique\n  \nConférence\nLes secrets des plantes aromatiques\n(durée 1h30) \nLa spirale aromatique est remplie de plantes qui peuvent aider notre quotidien. Venez\ndécouvrir ces plantes et comment confectionner des infusions qui soulagent ! \n  \nGratuit – sur inscription – famille avec enfants (à partir de 3 ans) – en intérieur
URL:https://www.biodiverscite.fr/evenement/le-secret-des-plantes-aromatiques/
LOCATION:Havre de Fine\, 50 Rue Rénéric\, Anglet\, 64600\, France
ORGANIZER;CN="havre de Fine":MAILTO:bio.divers.cite.asso@gmail.com
END:VEVENT
END:VCALENDAR