BEGIN:VCALENDAR
VERSION:2.0
PRODID:-//Bio Divers Cité - ECPv6.15.17//NONSGML v1.0//EN
CALSCALE:GREGORIAN
METHOD:PUBLISH
X-WR-CALNAME:Bio Divers Cité
X-ORIGINAL-URL:https://www.biodiverscite.fr
X-WR-CALDESC:Évènements pour Bio Divers Cité
REFRESH-INTERVAL;VALUE=DURATION:PT1H
X-Robots-Tag:noindex
X-PUBLISHED-TTL:PT1H
BEGIN:VTIMEZONE
TZID:Europe/Paris
BEGIN:DAYLIGHT
TZOFFSETFROM:+0100
TZOFFSETTO:+0200
TZNAME:CEST
DTSTART:20230326T010000
END:DAYLIGHT
BEGIN:STANDARD
TZOFFSETFROM:+0200
TZOFFSETTO:+0100
TZNAME:CET
DTSTART:20231029T010000
END:STANDARD
BEGIN:DAYLIGHT
TZOFFSETFROM:+0100
TZOFFSETTO:+0200
TZNAME:CEST
DTSTART:20240331T010000
END:DAYLIGHT
BEGIN:STANDARD
TZOFFSETFROM:+0200
TZOFFSETTO:+0100
TZNAME:CET
DTSTART:20241027T010000
END:STANDARD
BEGIN:DAYLIGHT
TZOFFSETFROM:+0100
TZOFFSETTO:+0200
TZNAME:CEST
DTSTART:20250330T010000
END:DAYLIGHT
BEGIN:STANDARD
TZOFFSETFROM:+0200
TZOFFSETTO:+0100
TZNAME:CET
DTSTART:20251026T010000
END:STANDARD
END:VTIMEZONE
BEGIN:VEVENT
DTSTART;TZID=Europe/Paris:20240526T130000
DTEND;TZID=Europe/Paris:20240526T210000
DTSTAMP:20260423T063642
CREATED:20240522T133839Z
LAST-MODIFIED:20240522T195715Z
UID:5548-1716728400-1716757200@www.biodiverscite.fr
SUMMARY:Fête du printemps au jardin de Grammont
DESCRIPTION:Dans la série des 4 saisons au 𝗷𝗮𝗿𝗱𝗶𝗻 𝗚𝗿𝗮𝗺𝗺𝗼𝗻𝘁 chez l’association Bio Divers Cité\, c’est parti pour… la 𝗙𝗲̂𝘁𝗲 𝗱𝘂 𝗣𝗿𝗶𝗻𝘁𝗲𝗺𝗽𝘀 dans une ambiance conviviale et végétale !\nDe 13h à 21h\, le programme sera riche et varié :\n————————————————————————— 𝗕𝗿𝘂𝗻𝗰𝗵 𝗺𝘂𝘀𝗶𝗰𝗮𝗹  – de 13h à 14h30\, seul-e ou en famille venez profiter de la musique ZEN de Ritual Groove en dégustant un délicieux brunch avec des options 100% végétales ! L’occasion pour Bio Divers Cité de valoriser ses produits frais on ne peut plus local… \n 𝗠𝗮𝗿𝗰𝗵𝗲́ 𝘃𝗲́𝗴𝗲́𝘁𝗮𝗹  – de 13h à 20h30\, pour découvrir des producteurs et créateurs locaux !\n 𝗔𝘁𝗲𝗹𝗶𝗲𝗿𝘀 – Yoga– Peinture végétale– Street art– Initiation danse africaine– Jeux nature\n—————————————————————————\n𝗖𝗼𝗻𝗰𝗲𝗿𝘁𝘀 𝗱𝗲 …\n– Un duo de Ritual Groove– Zeze– La Main courante—————————————————————————\n\nProgrammation à venir…\n\n\n—————————————————————————\n\nOrganisé par :– Bio Divers Cité\, jardin Grammont : 15q avenue Gramont – 64200 Biarritz– La Ruche Biarritz – Domaine de Migron\, BAT E – 64200 Biarritz \n\nPlus de détails ici : https://www.facebook.com/events/403581682455363/
URL:https://www.biodiverscite.fr/evenement/fete-du-printemps-au-jardin-de-grammont/
LOCATION:Jardin de Grammont (Bio Divers Cité)\, 15 Avenue de Gramont\, Biarritz\, 64200\, France
END:VEVENT
END:VCALENDAR