BEGIN:VCALENDAR
VERSION:2.0
PRODID:-//Bio Divers Cité - ECPv6.15.17//NONSGML v1.0//EN
CALSCALE:GREGORIAN
METHOD:PUBLISH
X-WR-CALNAME:Bio Divers Cité
X-ORIGINAL-URL:https://www.biodiverscite.fr
X-WR-CALDESC:Évènements pour Bio Divers Cité
REFRESH-INTERVAL;VALUE=DURATION:PT1H
X-Robots-Tag:noindex
X-PUBLISHED-TTL:PT1H
BEGIN:VTIMEZONE
TZID:Europe/Paris
BEGIN:DAYLIGHT
TZOFFSETFROM:+0100
TZOFFSETTO:+0200
TZNAME:CEST
DTSTART:20230326T010000
END:DAYLIGHT
BEGIN:STANDARD
TZOFFSETFROM:+0200
TZOFFSETTO:+0100
TZNAME:CET
DTSTART:20231029T010000
END:STANDARD
BEGIN:DAYLIGHT
TZOFFSETFROM:+0100
TZOFFSETTO:+0200
TZNAME:CEST
DTSTART:20240331T010000
END:DAYLIGHT
BEGIN:STANDARD
TZOFFSETFROM:+0200
TZOFFSETTO:+0100
TZNAME:CET
DTSTART:20241027T010000
END:STANDARD
BEGIN:DAYLIGHT
TZOFFSETFROM:+0100
TZOFFSETTO:+0200
TZNAME:CEST
DTSTART:20250330T010000
END:DAYLIGHT
BEGIN:STANDARD
TZOFFSETFROM:+0200
TZOFFSETTO:+0100
TZNAME:CET
DTSTART:20251026T010000
END:STANDARD
END:VTIMEZONE
BEGIN:VEVENT
DTSTART;TZID=Europe/Paris:20240720T100000
DTEND;TZID=Europe/Paris:20240720T120000
DTSTAMP:20260424T101359
CREATED:20240424T081250Z
LAST-MODIFIED:20240424T081250Z
UID:5527-1721469600-1721476800@www.biodiverscite.fr
SUMMARY:Découverte des Libellules au Havre de Lamouly
DESCRIPTION:Date : Le 20 juillet à 10h\nLieu : Havre de Lamouly \nDécouverte des Libellules avec Audrey de la LPO \nInscription : environnement@anglet.fr
URL:https://www.biodiverscite.fr/evenement/decouverte-des-libellules-au-havre-de-lamouly/
LOCATION:Lamouly – Havre de Biodiversité\, 68 Rue de Lamouly\, Anglet\, 64600\, France
END:VEVENT
END:VCALENDAR