BEGIN:VCALENDAR
VERSION:2.0
PRODID:-//Bio Divers Cité - ECPv6.15.17//NONSGML v1.0//EN
CALSCALE:GREGORIAN
METHOD:PUBLISH
X-WR-CALNAME:Bio Divers Cité
X-ORIGINAL-URL:https://www.biodiverscite.fr
X-WR-CALDESC:Évènements pour Bio Divers Cité
REFRESH-INTERVAL;VALUE=DURATION:PT1H
X-Robots-Tag:noindex
X-PUBLISHED-TTL:PT1H
BEGIN:VTIMEZONE
TZID:Europe/Paris
BEGIN:DAYLIGHT
TZOFFSETFROM:+0100
TZOFFSETTO:+0200
TZNAME:CEST
DTSTART:20230326T010000
END:DAYLIGHT
BEGIN:STANDARD
TZOFFSETFROM:+0200
TZOFFSETTO:+0100
TZNAME:CET
DTSTART:20231029T010000
END:STANDARD
BEGIN:DAYLIGHT
TZOFFSETFROM:+0100
TZOFFSETTO:+0200
TZNAME:CEST
DTSTART:20240331T010000
END:DAYLIGHT
BEGIN:STANDARD
TZOFFSETFROM:+0200
TZOFFSETTO:+0100
TZNAME:CET
DTSTART:20241027T010000
END:STANDARD
BEGIN:DAYLIGHT
TZOFFSETFROM:+0100
TZOFFSETTO:+0200
TZNAME:CEST
DTSTART:20250330T010000
END:DAYLIGHT
BEGIN:STANDARD
TZOFFSETFROM:+0200
TZOFFSETTO:+0100
TZNAME:CET
DTSTART:20251026T010000
END:STANDARD
END:VTIMEZONE
BEGIN:VEVENT
DTSTART;TZID=Europe/Paris:20240424T180000
DTEND;TZID=Europe/Paris:20240424T193000
DTSTAMP:20260423T074232
CREATED:20240418T075340Z
LAST-MODIFIED:20240418T075340Z
UID:5497-1713981600-1713987000@www.biodiverscite.fr
SUMMARY:Atelier Compost à la MAIF
DESCRIPTION:Le 24 avril 2024\, de 18h à 19h30 \nUne animation pour découvrir de A à Z les règles et spécificités du compost afin de vous (re)mettre au vert ! Un atelier où Charlotte vous dévoilera les secrets d’un compost réussi ! \nInscription ici : https://www.maif-evenements.fr/composter-en-ville/atelier-compost-avec-bio-divers-cite?o=172553
URL:https://www.biodiverscite.fr/evenement/atelier-compost-a-la-maif/
LOCATION:Maif Anglet\, 43 avenue de Bayonne\, Anglet\, 64600
END:VEVENT
END:VCALENDAR