BEGIN:VCALENDAR
VERSION:2.0
PRODID:-//Bio Divers Cité - ECPv6.15.17//NONSGML v1.0//EN
CALSCALE:GREGORIAN
METHOD:PUBLISH
X-WR-CALNAME:Bio Divers Cité
X-ORIGINAL-URL:https://www.biodiverscite.fr
X-WR-CALDESC:Évènements pour Bio Divers Cité
REFRESH-INTERVAL;VALUE=DURATION:PT1H
X-Robots-Tag:noindex
X-PUBLISHED-TTL:PT1H
BEGIN:VTIMEZONE
TZID:Europe/Paris
BEGIN:DAYLIGHT
TZOFFSETFROM:+0100
TZOFFSETTO:+0200
TZNAME:CEST
DTSTART:20230326T010000
END:DAYLIGHT
BEGIN:STANDARD
TZOFFSETFROM:+0200
TZOFFSETTO:+0100
TZNAME:CET
DTSTART:20231029T010000
END:STANDARD
BEGIN:DAYLIGHT
TZOFFSETFROM:+0100
TZOFFSETTO:+0200
TZNAME:CEST
DTSTART:20240331T010000
END:DAYLIGHT
BEGIN:STANDARD
TZOFFSETFROM:+0200
TZOFFSETTO:+0100
TZNAME:CET
DTSTART:20241027T010000
END:STANDARD
BEGIN:DAYLIGHT
TZOFFSETFROM:+0100
TZOFFSETTO:+0200
TZNAME:CEST
DTSTART:20250330T010000
END:DAYLIGHT
BEGIN:STANDARD
TZOFFSETFROM:+0200
TZOFFSETTO:+0100
TZNAME:CET
DTSTART:20251026T010000
END:STANDARD
END:VTIMEZONE
BEGIN:VEVENT
DTSTART;TZID=Europe/Paris:20240828T140000
DTEND;TZID=Europe/Paris:20240828T160000
DTSTAMP:20260423T001319
CREATED:20240730T081128Z
LAST-MODIFIED:20240808T075153Z
UID:5670-1724853600-1724860800@www.biodiverscite.fr
SUMMARY:Mieux Connaître les Différentes Familles de Pollinisateurs
DESCRIPTION:Mieux Connaître les Différentes Familles de Pollinisateurs \nLieu : Plaine d’Ansot\nDate : Le 28 août 2024\nHoraire : 14h – 16h\nInscription : Envoyez un email à bio.divers.cite.asso@gmail.com\nGratuit
URL:https://www.biodiverscite.fr/evenement/animation-pollinisateurs-a-la-plaine-dansot-2/
LOCATION:Plaine d’Ansot\, Pont Blanc\, Bayonne\, 64100\, France
END:VEVENT
END:VCALENDAR