BEGIN:VCALENDAR
VERSION:2.0
PRODID:-//Bio Divers Cité - ECPv6.15.17//NONSGML v1.0//EN
CALSCALE:GREGORIAN
METHOD:PUBLISH
X-WR-CALNAME:Bio Divers Cité
X-ORIGINAL-URL:https://www.biodiverscite.fr
X-WR-CALDESC:Évènements pour Bio Divers Cité
REFRESH-INTERVAL;VALUE=DURATION:PT1H
X-Robots-Tag:noindex
X-PUBLISHED-TTL:PT1H
BEGIN:VTIMEZONE
TZID:Europe/Paris
BEGIN:DAYLIGHT
TZOFFSETFROM:+0100
TZOFFSETTO:+0200
TZNAME:CEST
DTSTART:20230326T010000
END:DAYLIGHT
BEGIN:STANDARD
TZOFFSETFROM:+0200
TZOFFSETTO:+0100
TZNAME:CET
DTSTART:20231029T010000
END:STANDARD
BEGIN:DAYLIGHT
TZOFFSETFROM:+0100
TZOFFSETTO:+0200
TZNAME:CEST
DTSTART:20240331T010000
END:DAYLIGHT
BEGIN:STANDARD
TZOFFSETFROM:+0200
TZOFFSETTO:+0100
TZNAME:CET
DTSTART:20241027T010000
END:STANDARD
BEGIN:DAYLIGHT
TZOFFSETFROM:+0100
TZOFFSETTO:+0200
TZNAME:CEST
DTSTART:20250330T010000
END:DAYLIGHT
BEGIN:STANDARD
TZOFFSETFROM:+0200
TZOFFSETTO:+0100
TZNAME:CET
DTSTART:20251026T010000
END:STANDARD
END:VTIMEZONE
BEGIN:VEVENT
DTSTART;TZID=Europe/Paris:20240413T100000
DTEND;TZID=Europe/Paris:20240413T120000
DTSTAMP:20260421T193309
CREATED:20240315T120434Z
LAST-MODIFIED:20240315T120505Z
UID:5429-1713002400-1713009600@www.biodiverscite.fr
SUMMARY:Animation Oiseaux au Havre de Lamouly à Anglet
DESCRIPTION:Animation Oiseaux au Havre de Lamouly à Anglet \nInscription : environnement@anglet.fr
URL:https://www.biodiverscite.fr/evenement/animation-oiseaux-au-havre-de-lamouly-a-anglet/
LOCATION:Jardin de Grammont (Bio Divers Cité)\, 15 Avenue de Gramont\, Biarritz\, 64200\, France
END:VEVENT
END:VCALENDAR