BEGIN:VCALENDAR
VERSION:2.0
PRODID:-//Bio Divers Cité - ECPv6.15.17//NONSGML v1.0//EN
CALSCALE:GREGORIAN
METHOD:PUBLISH
X-WR-CALNAME:Bio Divers Cité
X-ORIGINAL-URL:https://www.biodiverscite.fr
X-WR-CALDESC:Évènements pour Bio Divers Cité
REFRESH-INTERVAL;VALUE=DURATION:PT1H
X-Robots-Tag:noindex
X-PUBLISHED-TTL:PT1H
BEGIN:VTIMEZONE
TZID:Europe/Paris
BEGIN:DAYLIGHT
TZOFFSETFROM:+0100
TZOFFSETTO:+0200
TZNAME:CEST
DTSTART:20220327T010000
END:DAYLIGHT
BEGIN:STANDARD
TZOFFSETFROM:+0200
TZOFFSETTO:+0100
TZNAME:CET
DTSTART:20221030T010000
END:STANDARD
BEGIN:DAYLIGHT
TZOFFSETFROM:+0100
TZOFFSETTO:+0200
TZNAME:CEST
DTSTART:20230326T010000
END:DAYLIGHT
BEGIN:STANDARD
TZOFFSETFROM:+0200
TZOFFSETTO:+0100
TZNAME:CET
DTSTART:20231029T010000
END:STANDARD
BEGIN:DAYLIGHT
TZOFFSETFROM:+0100
TZOFFSETTO:+0200
TZNAME:CEST
DTSTART:20240331T010000
END:DAYLIGHT
BEGIN:STANDARD
TZOFFSETFROM:+0200
TZOFFSETTO:+0100
TZNAME:CET
DTSTART:20241027T010000
END:STANDARD
END:VTIMEZONE
BEGIN:VEVENT
DTSTART;TZID=Europe/Paris:20231031T180000
DTEND;TZID=Europe/Paris:20231031T193000
DTSTAMP:20260423T120009
CREATED:20231013T094819Z
LAST-MODIFIED:20231013T094819Z
UID:4841-1698775200-1698780600@www.biodiverscite.fr
SUMMARY:Animation chauves-souris à Bidart
DESCRIPTION:Venez écouter et mieux connaître les chauves-souris et tous les intérêts que nous avons à les préserver !\nÀ l’aide d’une bat-box\, nous essaierons de capter les chauves-souris et les identifier.\nAccessible aux petits comme aux grands ! \nGratuit\, sur inscription par SMS au 07.67.83.08.47
URL:https://www.biodiverscite.fr/evenement/animation-chauves-souris-a-bidart/
LOCATION:Havre de Bidart\, Rue Berrua\, Bidart\, 64200
END:VEVENT
END:VCALENDAR