BEGIN:VCALENDAR
VERSION:2.0
PRODID:-//Bio Divers Cité - ECPv6.15.17//NONSGML v1.0//EN
CALSCALE:GREGORIAN
METHOD:PUBLISH
X-WR-CALNAME:Bio Divers Cité
X-ORIGINAL-URL:https://www.biodiverscite.fr
X-WR-CALDESC:Évènements pour Bio Divers Cité
REFRESH-INTERVAL;VALUE=DURATION:PT1H
X-Robots-Tag:noindex
X-PUBLISHED-TTL:PT1H
BEGIN:VTIMEZONE
TZID:Europe/Paris
BEGIN:DAYLIGHT
TZOFFSETFROM:+0100
TZOFFSETTO:+0200
TZNAME:CEST
DTSTART:20230326T010000
END:DAYLIGHT
BEGIN:STANDARD
TZOFFSETFROM:+0200
TZOFFSETTO:+0100
TZNAME:CET
DTSTART:20231029T010000
END:STANDARD
BEGIN:DAYLIGHT
TZOFFSETFROM:+0100
TZOFFSETTO:+0200
TZNAME:CEST
DTSTART:20240331T010000
END:DAYLIGHT
BEGIN:STANDARD
TZOFFSETFROM:+0200
TZOFFSETTO:+0100
TZNAME:CET
DTSTART:20241027T010000
END:STANDARD
BEGIN:DAYLIGHT
TZOFFSETFROM:+0100
TZOFFSETTO:+0200
TZNAME:CEST
DTSTART:20250330T010000
END:DAYLIGHT
BEGIN:STANDARD
TZOFFSETFROM:+0200
TZOFFSETTO:+0100
TZNAME:CET
DTSTART:20251026T010000
END:STANDARD
END:VTIMEZONE
BEGIN:VEVENT
DTSTART;TZID=Europe/Paris:20241009T140000
DTEND;TZID=Europe/Paris:20241009T160000
DTSTAMP:20260422T210513
CREATED:20240730T081847Z
LAST-MODIFIED:20240730T082510Z
UID:5672-1728482400-1728489600@www.biodiverscite.fr
SUMMARY:Animation à Bidart : Augmenter la biodiversité chez soi
DESCRIPTION:Mercredi 9 octobre\nDe 14h à 16h \nLieu : Havre de Biodiversité de l’école élémentaire de Bidart. \nIl existe des gestes simples qui font beaucoup\, il existe aussi des gestes que l’on croit être positifs et qui ne le sont pas. Parfois\, nous n’osons tout simplement pas. Pour comprendre le vrai du faux et avoir des techniques concrètes pour aider la biodiversité\, venez discuter et visiter le Havre avec l’association Bio Divers Cité ! \nSeul-e ou en famille\, 15 participants maximum\, Inscriptions par mail à bio.divers.cite.asso@gmail.com.
URL:https://www.biodiverscite.fr/evenement/animation-a-bidart-augmenter-la-biodiversite-chez-soi/
LOCATION:Havre de Bidart\, Rue Berrua\, Bidart\, 64200
END:VEVENT
END:VCALENDAR